BEGIN:VCALENDAR
VERSION:2.0
PRODID:-//Bürgerverein Wilhelmshagen Rahnsdorf e.V. - ECPv6.15.20//NONSGML v1.0//EN
CALSCALE:GREGORIAN
METHOD:PUBLISH
X-ORIGINAL-URL:https://bv-wi-ra.de
X-WR-CALDESC:Veranstaltungen für Bürgerverein Wilhelmshagen Rahnsdorf e.V.
REFRESH-INTERVAL;VALUE=DURATION:PT1H
X-Robots-Tag:noindex
X-PUBLISHED-TTL:PT1H
BEGIN:VTIMEZONE
TZID:Europe/Berlin
BEGIN:DAYLIGHT
TZOFFSETFROM:+0100
TZOFFSETTO:+0200
TZNAME:CEST
DTSTART:20240331T010000
END:DAYLIGHT
BEGIN:STANDARD
TZOFFSETFROM:+0200
TZOFFSETTO:+0100
TZNAME:CET
DTSTART:20241027T010000
END:STANDARD
BEGIN:DAYLIGHT
TZOFFSETFROM:+0100
TZOFFSETTO:+0200
TZNAME:CEST
DTSTART:20250330T010000
END:DAYLIGHT
BEGIN:STANDARD
TZOFFSETFROM:+0200
TZOFFSETTO:+0100
TZNAME:CET
DTSTART:20251026T010000
END:STANDARD
BEGIN:DAYLIGHT
TZOFFSETFROM:+0100
TZOFFSETTO:+0200
TZNAME:CEST
DTSTART:20260329T010000
END:DAYLIGHT
BEGIN:STANDARD
TZOFFSETFROM:+0200
TZOFFSETTO:+0100
TZNAME:CET
DTSTART:20261025T010000
END:STANDARD
END:VTIMEZONE
BEGIN:VEVENT
DTSTART;TZID=Europe/Berlin:20250603T180000
DTEND;TZID=Europe/Berlin:20250603T213000
DTSTAMP:20260420T102339
CREATED:20231019T105112Z
LAST-MODIFIED:20250523T231644Z
UID:319-1748973600-1748986200@bv-wi-ra.de
SUMMARY:Mitgliedervollversammlung 2025
DESCRIPTION:Geplanter Termin war der 30.05.2025.\nLeider müssen wir wegen Feiertag(Himmelfahrt) die Mitgliedervollversammlung auf den 03.06.25 verschieben. Die Uhrzeit bleibt unverändert. \nEs wird um Teilnahmemeldung(telefonisch oder Mail) gebeten\, um den Platzbedarf besser einschätzen zu können. \n\nhier die Einladung\nund hier Tagesordnung
URL:https://bv-wi-ra.de/event/mitgliedervollversammlung25/
LOCATION:Fisch-Borke am Müggelsee\, Fürstenwalder Damm 838\, Berlin\, 12589\, Germany
ORGANIZER;CN="B%C3%BCrgerverein Wilhelmshagen Rahnsdorf e.V.":MAILTO:bvwr@gmail.com
END:VEVENT
END:VCALENDAR