BEGIN:VCALENDAR
VERSION:2.0
PRODID:-//Bürgerverein Wilhelmshagen Rahnsdorf e.V. - ECPv6.15.20//NONSGML v1.0//EN
CALSCALE:GREGORIAN
METHOD:PUBLISH
X-ORIGINAL-URL:https://bv-wi-ra.de
X-WR-CALDESC:Veranstaltungen für Bürgerverein Wilhelmshagen Rahnsdorf e.V.
REFRESH-INTERVAL;VALUE=DURATION:PT1H
X-Robots-Tag:noindex
X-PUBLISHED-TTL:PT1H
BEGIN:VTIMEZONE
TZID:Europe/Berlin
BEGIN:DAYLIGHT
TZOFFSETFROM:+0100
TZOFFSETTO:+0200
TZNAME:CEST
DTSTART:20240331T010000
END:DAYLIGHT
BEGIN:STANDARD
TZOFFSETFROM:+0200
TZOFFSETTO:+0100
TZNAME:CET
DTSTART:20241027T010000
END:STANDARD
BEGIN:DAYLIGHT
TZOFFSETFROM:+0100
TZOFFSETTO:+0200
TZNAME:CEST
DTSTART:20250330T010000
END:DAYLIGHT
BEGIN:STANDARD
TZOFFSETFROM:+0200
TZOFFSETTO:+0100
TZNAME:CET
DTSTART:20251026T010000
END:STANDARD
BEGIN:DAYLIGHT
TZOFFSETFROM:+0100
TZOFFSETTO:+0200
TZNAME:CEST
DTSTART:20260329T010000
END:DAYLIGHT
BEGIN:STANDARD
TZOFFSETFROM:+0200
TZOFFSETTO:+0100
TZNAME:CET
DTSTART:20261025T010000
END:STANDARD
END:VTIMEZONE
BEGIN:VEVENT
DTSTART;VALUE=DATE:20250920
DTEND;VALUE=DATE:20250921
DTSTAMP:20260420T053607
CREATED:20231019T105327Z
LAST-MODIFIED:20250327T102306Z
UID:322-1758326400-1758412799@bv-wi-ra.de
SUMMARY:25. Kinder- und  Familienfest
DESCRIPTION:Das Kinderfest wird vom 13.9.25 auf den 20.9.25 verlegt\, weil am 13.9.25 die Einschulung in unserer Schule erfolgt.
URL:https://bv-wi-ra.de/event/save-the-date-24-kinder-und-familienfest/
LOCATION:S – Bhf. Wilhelmshagen\, Berlin\, 12589\, Germany
ATTACH;FMTTYPE=image/jpeg:https://bv-wi-ra.de/wp-content/uploads/2023/10/bemaltes-holzschild-mit-ausgesagten-buchstaben-stockpack-adobe-stock.jpg
ORGANIZER;CN="B%C3%BCrgerverein Wilhelmshagen Rahnsdorf e.V.":MAILTO:bvwr@gmail.com
END:VEVENT
END:VCALENDAR