BEGIN:VCALENDAR
VERSION:2.0
PRODID:-//Bürgerverein Wilhelmshagen Rahnsdorf e.V. - ECPv6.15.20//NONSGML v1.0//EN
CALSCALE:GREGORIAN
METHOD:PUBLISH
X-WR-CALNAME:Bürgerverein Wilhelmshagen Rahnsdorf e.V.
X-ORIGINAL-URL:https://bv-wi-ra.de
X-WR-CALDESC:Veranstaltungen für Bürgerverein Wilhelmshagen Rahnsdorf e.V.
REFRESH-INTERVAL;VALUE=DURATION:PT1H
X-Robots-Tag:noindex
X-PUBLISHED-TTL:PT1H
BEGIN:VTIMEZONE
TZID:Europe/Berlin
BEGIN:DAYLIGHT
TZOFFSETFROM:+0100
TZOFFSETTO:+0200
TZNAME:CEST
DTSTART:20240331T010000
END:DAYLIGHT
BEGIN:STANDARD
TZOFFSETFROM:+0200
TZOFFSETTO:+0100
TZNAME:CET
DTSTART:20241027T010000
END:STANDARD
BEGIN:DAYLIGHT
TZOFFSETFROM:+0100
TZOFFSETTO:+0200
TZNAME:CEST
DTSTART:20250330T010000
END:DAYLIGHT
BEGIN:STANDARD
TZOFFSETFROM:+0200
TZOFFSETTO:+0100
TZNAME:CET
DTSTART:20251026T010000
END:STANDARD
BEGIN:DAYLIGHT
TZOFFSETFROM:+0100
TZOFFSETTO:+0200
TZNAME:CEST
DTSTART:20260329T010000
END:DAYLIGHT
BEGIN:STANDARD
TZOFFSETFROM:+0200
TZOFFSETTO:+0100
TZNAME:CET
DTSTART:20261025T010000
END:STANDARD
END:VTIMEZONE
BEGIN:VEVENT
DTSTART;TZID=Europe/Berlin:20250603T180000
DTEND;TZID=Europe/Berlin:20250603T213000
DTSTAMP:20260420T084632
CREATED:20231019T105112Z
LAST-MODIFIED:20250523T231644Z
UID:319-1748973600-1748986200@bv-wi-ra.de
SUMMARY:Mitgliedervollversammlung 2025
DESCRIPTION:Geplanter Termin war der 30.05.2025.\nLeider müssen wir wegen Feiertag(Himmelfahrt) die Mitgliedervollversammlung auf den 03.06.25 verschieben. Die Uhrzeit bleibt unverändert. \nEs wird um Teilnahmemeldung(telefonisch oder Mail) gebeten\, um den Platzbedarf besser einschätzen zu können. \n\nhier die Einladung\nund hier Tagesordnung
URL:https://bv-wi-ra.de/event/mitgliedervollversammlung25/
LOCATION:Fisch-Borke am Müggelsee\, Fürstenwalder Damm 838\, Berlin\, 12589\, Germany
ORGANIZER;CN="B%C3%BCrgerverein Wilhelmshagen Rahnsdorf e.V.":MAILTO:bvwr@gmail.com
END:VEVENT
BEGIN:VEVENT
DTSTART;TZID=Europe/Berlin:20250611T180000
DTEND;TZID=Europe/Berlin:20250611T183000
DTSTAMP:20260420T084632
CREATED:20250518T232709Z
LAST-MODIFIED:20250529T213851Z
UID:2961-1749664800-1749666600@bv-wi-ra.de
SUMMARY:Bürgerversammlung "Kiezkasse 2025"
DESCRIPTION:Kiezkasse 2025\nhttps://www.berlin.de/ba-treptow-koepenick/aktuelles/pressemitteilungen/2025/pressemitteilung.1559139.php
URL:https://bv-wi-ra.de/event/kiezkasse-2025/
END:VEVENT
BEGIN:VEVENT
DTSTART;TZID=Europe/Berlin:20250618T173000
DTEND;TZID=Europe/Berlin:20250618T210000
DTSTAMP:20260420T084632
CREATED:20240703T210735Z
LAST-MODIFIED:20241227T151710Z
UID:1493-1750267800-1750280400@bv-wi-ra.de
SUMMARY:Skat - Treff des Bürgervereins im Juni 2025
DESCRIPTION:Interessierte Skatfreunde sind herzlich eingeladen. Es gelten die Altenburger Skatregeln. \nÄnderungen vorbehalten
URL:https://bv-wi-ra.de/event/skat-treff-des-buergervereins-juli-2024/
LOCATION:Kiezklub Rahnsdorf\, Fürstenwalder Allee 366\, Rahnsdorf-Berlin\, Berlin\, 12589\, Deutschland
ORGANIZER;CN="B%C3%BCrgerverein Wilhelmshagen Rahnsdorf e.V.":MAILTO:bvwr@gmail.com
END:VEVENT
BEGIN:VEVENT
DTSTART;TZID=Europe/Berlin:20250621T071500
DTEND;TZID=Europe/Berlin:20250621T201500
DTSTAMP:20260420T084632
CREATED:20250124T004926Z
LAST-MODIFIED:20250129T135002Z
UID:2318-1750490100-1750536900@bv-wi-ra.de
SUMMARY:Busausflug nach Forst + Görlitz
DESCRIPTION:
URL:https://bv-wi-ra.de/event/ausflug-nach-forst-goerlitz/
ORGANIZER;CN="B%C3%BCrgerverein Wilhelmshagen Rahnsdorf e.V.":MAILTO:bvwr@gmail.com
END:VEVENT
BEGIN:VEVENT
DTSTART;TZID=Europe/Berlin:20250628T140000
DTEND;TZID=Europe/Berlin:20250628T180000
DTSTAMP:20260420T084632
CREATED:20250529T214841Z
LAST-MODIFIED:20250529T215020Z
UID:3029-1751119200-1751133600@bv-wi-ra.de
SUMMARY:Sommerfest Kiezklub Rahnsdorf 2025
DESCRIPTION:Einladung Sommerfest _2025 (002)
URL:https://bv-wi-ra.de/event/sommerfest-kiezklub-rahnsdorf-2025/
LOCATION:Kiezklub Rahnsdorf\, Fürstenwalder Allee 366\, Rahnsdorf-Berlin\, Berlin\, 12589\, Deutschland
END:VEVENT
END:VCALENDAR