BEGIN:VCALENDAR
VERSION:2.0
PRODID:-//Bürgerverein Wilhelmshagen Rahnsdorf e.V. - ECPv6.15.20//NONSGML v1.0//EN
CALSCALE:GREGORIAN
METHOD:PUBLISH
X-ORIGINAL-URL:https://bv-wi-ra.de
X-WR-CALDESC:Veranstaltungen für Bürgerverein Wilhelmshagen Rahnsdorf e.V.
REFRESH-INTERVAL;VALUE=DURATION:PT1H
X-Robots-Tag:noindex
X-PUBLISHED-TTL:PT1H
BEGIN:VTIMEZONE
TZID:Europe/Berlin
BEGIN:DAYLIGHT
TZOFFSETFROM:+0100
TZOFFSETTO:+0200
TZNAME:CEST
DTSTART:20240331T010000
END:DAYLIGHT
BEGIN:STANDARD
TZOFFSETFROM:+0200
TZOFFSETTO:+0100
TZNAME:CET
DTSTART:20241027T010000
END:STANDARD
BEGIN:DAYLIGHT
TZOFFSETFROM:+0100
TZOFFSETTO:+0200
TZNAME:CEST
DTSTART:20250330T010000
END:DAYLIGHT
BEGIN:STANDARD
TZOFFSETFROM:+0200
TZOFFSETTO:+0100
TZNAME:CET
DTSTART:20251026T010000
END:STANDARD
BEGIN:DAYLIGHT
TZOFFSETFROM:+0100
TZOFFSETTO:+0200
TZNAME:CEST
DTSTART:20260329T010000
END:DAYLIGHT
BEGIN:STANDARD
TZOFFSETFROM:+0200
TZOFFSETTO:+0100
TZNAME:CET
DTSTART:20261025T010000
END:STANDARD
END:VTIMEZONE
BEGIN:VEVENT
DTSTART;TZID=Europe/Berlin:20251115T110000
DTEND;TZID=Europe/Berlin:20251115T113000
DTSTAMP:20260420T012104
CREATED:20251010T203637Z
LAST-MODIFIED:20251022T150510Z
UID:3818-1763204400-1763206200@bv-wi-ra.de
SUMMARY:Gedenkveranstaltung zum 120. Todestag von Clara Müller-Jahnke
DESCRIPTION:Auf dem ev. Friedhof in Berlin – Wilhelmshagen findet eine Gedenkveranstaltung des Bürgervereins zum 120. Todestag von Clara Müller – Jahnke statt. Der Bezirksbürgermeister Oliver Igel wird auch erwartet. Gäste willkommen\, es wird um eine angemessene Kleidung gebeten. \nEine neue Gedenktafel wird veröffentlicht.
URL:https://bv-wi-ra.de/event/gedenkveranstaltung-zum-120-todestag-von-clara-mueller-jahnke/
LOCATION:ev. Friedhof Berlin-Wilhelmshagen\, Saarower Weg 51 · 12589 Berlin\, Berlin-Wilhelmshagen\, Berlin\, 12589\, Germany
ORGANIZER;CN="B%C3%BCrgerverein Wilhelmshagen Rahnsdorf e.V.":MAILTO:bvwr@gmail.com
END:VEVENT
BEGIN:VEVENT
DTSTART;TZID=Europe/Berlin:20251121T140000
DTEND;TZID=Europe/Berlin:20251121T160000
DTSTAMP:20260420T012105
CREATED:20251106T212649Z
LAST-MODIFIED:20251106T212921Z
UID:3873-1763733600-1763740800@bv-wi-ra.de
SUMMARY:Nicht ohne meinen Kater!
DESCRIPTION:
URL:https://bv-wi-ra.de/event/nicht-ohne-meinen-kater/
LOCATION:Kiezklub Vital\, Berlin-Friedrichshagen\, Myliusgarten 20\, Myliusgarten 20\, 12587 Berlin\, Berlin\, 12587\, Germany
ATTACH;FMTTYPE=application/pdf:https://bv-wi-ra.de/wp-content/uploads/2025/11/Flyer-Lesung.am_.21.11.25_PvM-Endfassung-1.pdf
END:VEVENT
END:VCALENDAR